BEGIN:VCALENDAR
VERSION:2.0
PRODID:-//Sober Syracuse - ECPv6.15.20//NONSGML v1.0//EN
CALSCALE:GREGORIAN
METHOD:PUBLISH
X-WR-CALNAME:Sober Syracuse
X-ORIGINAL-URL:https://sobersyracuse.org
X-WR-CALDESC:Events for Sober Syracuse
REFRESH-INTERVAL;VALUE=DURATION:PT1H
X-Robots-Tag:noindex
X-PUBLISHED-TTL:PT1H
BEGIN:VTIMEZONE
TZID:America/New_York
BEGIN:DAYLIGHT
TZOFFSETFROM:-0500
TZOFFSETTO:-0400
TZNAME:EDT
DTSTART:20190310T070000
END:DAYLIGHT
BEGIN:STANDARD
TZOFFSETFROM:-0400
TZOFFSETTO:-0500
TZNAME:EST
DTSTART:20191103T060000
END:STANDARD
BEGIN:DAYLIGHT
TZOFFSETFROM:-0500
TZOFFSETTO:-0400
TZNAME:EDT
DTSTART:20200308T070000
END:DAYLIGHT
BEGIN:STANDARD
TZOFFSETFROM:-0400
TZOFFSETTO:-0500
TZNAME:EST
DTSTART:20201101T060000
END:STANDARD
BEGIN:DAYLIGHT
TZOFFSETFROM:-0500
TZOFFSETTO:-0400
TZNAME:EDT
DTSTART:20210314T070000
END:DAYLIGHT
BEGIN:STANDARD
TZOFFSETFROM:-0400
TZOFFSETTO:-0500
TZNAME:EST
DTSTART:20211107T060000
END:STANDARD
BEGIN:DAYLIGHT
TZOFFSETFROM:-0500
TZOFFSETTO:-0400
TZNAME:EDT
DTSTART:20220313T070000
END:DAYLIGHT
BEGIN:STANDARD
TZOFFSETFROM:-0400
TZOFFSETTO:-0500
TZNAME:EST
DTSTART:20221106T060000
END:STANDARD
END:VTIMEZONE
BEGIN:VEVENT
DTSTART;TZID=America/New_York:20210109T140000
DTEND;TZID=America/New_York:20210109T140000
DTSTAMP:20260420T014625
CREATED:20210107T141457Z
LAST-MODIFIED:20210107T142423Z
UID:1833-1610200800-1610200800@sobersyracuse.org
SUMMARY:Erie Canal Hike to Simms Store - Sober Event by Plus1Fitness
DESCRIPTION:Starting at Reed Webster Park in Camillus\, NY\, take a walk along historic Erie Canal to Simms Store Museum\, which combines the old-fashioned charm of a canal store complete with a quaint gift shop\, exhibits\, early photos\, an exquisite “must-see” mural\, maps of the canal with models of locks\, aqueducts and canal boats.
URL:https://sobersyracuse.org/event/erie-canal-hike-to-simms-store-sober-event-by-plus1fitness/
END:VEVENT
BEGIN:VEVENT
DTSTART;TZID=America/New_York:20201126T090000
DTEND;TZID=America/New_York:20201126T100000
DTSTAMP:20260420T014626
CREATED:20201114T162343Z
LAST-MODIFIED:20201115T004704Z
UID:1773-1606381200-1606384800@sobersyracuse.org
SUMMARY:An Attitude of Gratitude Thanksgiving Day Morning Flow - Fundraiser for Road2RecoveryCNY
DESCRIPTION:Attitude of Gratitude Thanksgiving Flow to Benefit Road 2 Recovery CNY\nSuggested Donation $20 In Person $10 Live Stream!\n#yogagiveback #yoga #road2recoverycny — at In Bloom Yoga. \nContact colleen@inbloomyogastudio.com for more info. \nYou can register on the mindbody App for the in-person or virtual class.
URL:https://sobersyracuse.org/event/an-attitude-of-gratitude-thanksgiving-day-morning-flow-fundraiser-for-road2recoverycny/
LOCATION:In Bloom Yoga\, 1 Genesee Street\, 2nd Floor\, New Hartford\, 13413
ATTACH;FMTTYPE=image/png:https://sobersyracuse.org/wp-content/uploads/2020/11/Screen-Shot-2020-11-14-at-11.06.09-AM.png
ORGANIZER;CN="In Bloom Yoga":MAILTO:colleen@inbloomyogastudio.com
END:VEVENT
END:VCALENDAR